

BEGIN:VCALENDAR
VERSION:2.0
PRODID:-//eventon.com NONSGML v1.0//EN
CALSCALE:GREGORIAN
METHOD:PUBLISH
BEGIN:VEVENT
UID:69e5ea097573e
DTSTAMP:20260420T085537Z
DTSTART:20250513T130000Z
DTEND:20250513T140000Z
LOCATION:Arthur M Glick JCC\,  J Cafe
SUMMARY:Sippin' With Sam
DESCRIPTION:Sip beverages and schmooze at a meet-and-greet with JCC CEO Sam
  Dubrinsky!\nhttps://jccindy.org/events/sippin-with-sam-052025/
URL:https://jccindy.org/events/sippin-with-sam-052025/
END:VEVENT
END:VCALENDAR