

BEGIN:VCALENDAR
VERSION:2.0
PRODID:-//eventon.com NONSGML v1.0//EN
CALSCALE:GREGORIAN
METHOD:PUBLISH
BEGIN:VEVENT
UID:69e770f614f70
DTSTAMP:20260421T124334Z
DTSTART:20250408T160000Z
DTEND:20250408T160000Z
LOCATION:
SUMMARY:State of Antisemitism
DESCRIPTION:Where: JCC Indianapolis\,  Laikin Auditorium When: Thursday\,  
 May 8th\,  7 pm Cost: Free Return to the JCC for the State of Antisemitism 
 2025\,  showcasing the ADL’s audit on antisemitic incidents over the cour
 se of the last year. This program is for community members\,  allies\,  and
  those looking to learn more[..]\nhttps://jccindy.org/events/state-of-antis
 emitism/
URL:https://jccindy.org/events/state-of-antisemitism/
END:VEVENT
END:VCALENDAR