

BEGIN:VCALENDAR
VERSION:2.0
PRODID:-//eventon.com NONSGML v1.0//EN
CALSCALE:GREGORIAN
METHOD:PUBLISH
BEGIN:VEVENT
UID:69e9e249d18c5
DTSTAMP:20260423T091137Z
DTSTART:20250410T140000Z
DTEND:20250410T150000Z
LOCATION:Arthur M Glick JCC
SUMMARY:Healthy Living for Your Brain and Body
DESCRIPTION:For centuries\,  humans have known that the health of the brain
  and the body are connected. But now\,  science is able to provide insights
  into how lifestyle choices may help you keep your brain and body healthy a
 s you age. This course teaches about research in the areas of diet[..]\nhtt
 ps://jccindy.org/events/healthy-living-for-your-brain-and-body-2/
URL:https://jccindy.org/events/healthy-living-for-your-brain-and-body-2/
END:VEVENT
END:VCALENDAR