

BEGIN:VCALENDAR
VERSION:2.0
PRODID:-//eventon.com NONSGML v1.0//EN
CALSCALE:GREGORIAN
METHOD:PUBLISH
BEGIN:VEVENT
UID:69e7394692349
DTSTAMP:20260421T084558Z
DTSTART:20250126T190000Z
DTEND:20250127T045900Z
LOCATION:Arthur M Glick JCC
SUMMARY:Sar-El Info Session
DESCRIPTION:Sar-El is an organization that has been the lifeblood of suppor
 t for Israel for 40+ years\,  bringing thousands of volunteers from across 
 the world to assist the IDF (Israeli Defense Force) for one or two weeks at
  a time\,  providing essential aid in times of need. These dedicated indivi
 duals have[..]\nhttps://jccindy.org/events/sar-el-info-session/
URL:https://jccindy.org/events/sar-el-info-session/
END:VEVENT
END:VCALENDAR