

BEGIN:VCALENDAR
VERSION:2.0
PRODID:-//eventon.com NONSGML v1.0//EN
CALSCALE:GREGORIAN
METHOD:PUBLISH
BEGIN:VEVENT
UID:69e96d5e16852
DTSTAMP:20260423T005246Z
DTSTART:20241219T150000Z
DTEND:20241219T160000Z
LOCATION:Arthur M Glick JCC\,  J Cafe
SUMMARY:Cocoa and Cuties
DESCRIPTION:Enjoy hot cocoa and clementine Cuties with JCC fitness staff an
 d CEO Sam Dubrinsky!\nhttps://jccindy.org/events/cocoa-and-cuties/
URL:https://jccindy.org/events/cocoa-and-cuties/
END:VEVENT
END:VCALENDAR