

BEGIN:VCALENDAR
VERSION:2.0
PRODID:-//eventon.com NONSGML v1.0//EN
CALSCALE:GREGORIAN
METHOD:PUBLISH
BEGIN:VEVENT
UID:69e9a3a50ade0
DTSTAMP:20260423T044421Z
DTSTART:20241026T230000Z
DTEND:20241027T013000Z
LOCATION:JCC Indianapolis
SUMMARY:An Evening with Moshe Basson of the Eucalyptus Restaurant
DESCRIPTION:In his Jerusalem restau­rant\,  chef Moshe Bas­son seeks to b
 ring ​“a mod­ern Israeli inter­pre­ta­tion to the Land of Milk and 
 Hon­ey with food from the Bible.” This may be a lofty aim\,  but it is m
 ag­nif­i­cent­ly achieved. Bas­son opened his first Euca­lyp­tus res
 tau­rant in 1986\,  which he named for the[..]\nhttps://jccindy.org/events
 /an-evening-with-moshe-basson-of-the-eucalyptus-restaurant/
URL:https://jccindy.org/events/an-evening-with-moshe-basson-of-the-eucalyptus-restaurant/
END:VEVENT
END:VCALENDAR