

BEGIN:VCALENDAR
VERSION:2.0
PRODID:-//eventon.com NONSGML v1.0//EN
CALSCALE:GREGORIAN
METHOD:PUBLISH
BEGIN:VEVENT
UID:69e81304d4f39
DTSTAMP:20260422T001500Z
DTSTART:20240524T120000Z
DTEND:20240524T220000Z
LOCATION:Afterschool Care Wing at the JCC
SUMMARY:Start of Summer School's Out Day
DESCRIPTION:Register Now Spend a day at the J! The day is packed with safe\
 ,  healthy\,  100% social interaction for youth in grades K-5. Remember to 
 pack a lunch\,  swimsuit and towel and water bottle. A 2023-24 ASC Health F
 orm is required of every participant prior to attending the program.\nhttps
 ://jccindy.org/events/start-of-summer-schools-out-day/
URL:https://jccindy.org/events/start-of-summer-schools-out-day/
END:VEVENT
END:VCALENDAR