

BEGIN:VCALENDAR
VERSION:2.0
PRODID:-//eventon.com NONSGML v1.0//EN
CALSCALE:GREGORIAN
METHOD:PUBLISH
BEGIN:VEVENT
UID:69eace42b836a
DTSTAMP:20260424T015826Z
DTSTART:20240505T170000Z
DTEND:20240505T213000Z
LOCATION:Laikin Auditorium
SUMMARY:Beginning Watercolor Class with Anna Roberts and Cheryle Lowe
DESCRIPTION:This class will cover the basics of watercolor painting. Learn 
 about watercolor paints\,  brushes\,  paper\,  palettes\,  other tools used
  in watercolor\,  and techniques of application. Students will create the c
 olor wheel\,  mix paints\,  apply different washes and use various techniqu
 es. Concentration on how to control the paint\,  how to mix[..]\nhttps://jc
 cindy.org/events/beginning-watercolor-class-with-anna-roberts-and-cheryle-l
 owe/
URL:https://jccindy.org/events/beginning-watercolor-class-with-anna-roberts-and-cheryle-lowe/
END:VEVENT
END:VCALENDAR