

BEGIN:VCALENDAR
VERSION:2.0
PRODID:-//eventon.com NONSGML v1.0//EN
CALSCALE:GREGORIAN
METHOD:PUBLISH
BEGIN:VEVENT
UID:69e74faa8ba8a
DTSTAMP:20260421T102130Z
DTSTART:20240401T130000Z
DTEND:20240401T160000Z
LOCATION:Arthur M Glick JCC
SUMMARY:Community Garden Week
DESCRIPTION:Get your hands dirty in the J&#8217;s community garden in celeb
 ration of Community Garden Week! Raised Bed Rebuild: Mon-Tue\,  Apr 1-2\,  
 9 am-noon/1-4 pmAdults ages 18+ (minors age 12+ permitttted with adult supe
 rvision at all times) who know how to use power drills (if you own one\,  p
 lease bring it)[..]\nhttps://jccindy.org/events/community-garden-week/
URL:https://jccindy.org/events/community-garden-week/
END:VEVENT
END:VCALENDAR