

BEGIN:VCALENDAR
VERSION:2.0
PRODID:-//eventon.com NONSGML v1.0//EN
CALSCALE:GREGORIAN
METHOD:PUBLISH
BEGIN:VEVENT
UID:69e827fd7e126
DTSTAMP:20260422T014429Z
DTSTART:20240327T120000Z
DTEND:20240327T220000Z
LOCATION:Afterschool Care Wing at the JCC
SUMMARY:School's Out Days: Spring Break
DESCRIPTION:Register Now Spend spring break at the J! The days are packed w
 ith safe\,  healthy\,  100% social interaction for youth in grades K-5. Ple
 ase note: Drop-off is 8-9:30 am\,  and pick-up is 4:30-6 pm. Themes include
 :-Board Games\,  Puzzles and More-Pokemon Day-Sports of All Sorts-Hide &#82
 16;N&#8217; Seek Day-Disco Day-Safari Day-Garden Galore-Volcano[..]\nhttps:
 //jccindy.org/events/schools-out-days-spring-break-2/var/ri-2.l-L1
URL:https://jccindy.org/events/schools-out-days-spring-break-2/var/ri-2.l-L1
END:VEVENT
END:VCALENDAR