

BEGIN:VCALENDAR
VERSION:2.0
PRODID:-//eventon.com NONSGML v1.0//EN
CALSCALE:GREGORIAN
METHOD:PUBLISH
BEGIN:VEVENT
UID:69ecee463d86b
DTSTAMP:20260425T163934Z
DTSTART:20240118T213000Z
DTEND:20240118T230000Z
LOCATION:Afterschool Care Wing at the JCC
SUMMARY:Youth Pottery Class Spring Series
DESCRIPTION:At this youth pottery class\,  create\,  glaze and decorate you
 r own themed items using handbuilding and the pottery wheel. No experience 
 necessary! For ages 6-12. 12 spots available per class. Jan 18: BearFeb 15:
  Frog\,  lily pad\,  flowerMar 14: Dinosaur\,  volcanoApr 18: Dog (CANCELLE
 D)May 16: Owl in a tree Register[..]\nhttps://jccindy.org/events/youth-pott
 ery-class-spring-series/
URL:https://jccindy.org/events/youth-pottery-class-spring-series/
END:VEVENT
END:VCALENDAR