

BEGIN:VCALENDAR
VERSION:2.0
PRODID:-//eventon.com NONSGML v1.0//EN
CALSCALE:GREGORIAN
METHOD:PUBLISH
BEGIN:VEVENT
UID:69e5e71a3ed26
DTSTAMP:20260420T084306Z
DTSTART:20231211T233000Z
DTEND:20231212T045000Z
LOCATION:Arthur M Glick JCC
SUMMARY:Chanukah Concert featuring Aryeh Kunstler
DESCRIPTION:B&#8217;nai Torah invites you to an evening of Jewish music to 
 light the night! Pre-registration required (pizza included!) Register Now\n
 https://jccindy.org/events/chanukah-concert-featuring-aryeh-kunstler/
URL:https://jccindy.org/events/chanukah-concert-featuring-aryeh-kunstler/
END:VEVENT
END:VCALENDAR