

BEGIN:VCALENDAR
VERSION:2.0
PRODID:-//eventon.com NONSGML v1.0//EN
CALSCALE:GREGORIAN
METHOD:PUBLISH
BEGIN:VEVENT
UID:69e7517d43149
DTSTAMP:20260421T102917Z
DTSTART:20231112T213000Z
DTEND:20231112T230000Z
LOCATION:The AMP at 16 Tech 1220 Waterway Boulevard
SUMMARY:Ann Katz Festival: Michael Twitty with the Spirit & Place Festival
DESCRIPTION:Acclaimed Black Jewish food writer and culinary historian Micha
 el Twitty\,  author of The Cooking Gene: A Journey Through African American
  Culinary History in the Old South and&nbsp;Koshersoul:&nbsp;The Faith &amp
 ; Food Journey of an African American Jew\, &nbsp;joins Indianapolis food s
 cene leaders Candace Boyd and former MasterChef contestant Tanorria Askew f
 or a[..]\nhttps://jccindy.org/events/ann-katz-festival-michael-twitty-with-
 the-spirit-place-festival/
URL:https://jccindy.org/events/ann-katz-festival-michael-twitty-with-the-spirit-place-festival/
END:VEVENT
END:VCALENDAR