

BEGIN:VCALENDAR
VERSION:2.0
PRODID:-//eventon.com NONSGML v1.0//EN
CALSCALE:GREGORIAN
METHOD:PUBLISH
BEGIN:VEVENT
UID:69e7722424708
DTSTAMP:20260421T124836Z
DTSTART:20230731T030000Z
DTEND:20230730T170000Z
LOCATION:Eskenazi Water Park 6701 Hoover Road
SUMMARY:Squeeze the Day at the J
DESCRIPTION:Squeeze every last drop out of summer at this members-only fami
 ly event featuring games and lemony snacks! Register Now\nhttps://jccindy.o
 rg/events/squeeze-the-day-at-the-j/
URL:https://jccindy.org/events/squeeze-the-day-at-the-j/
END:VEVENT
END:VCALENDAR