

BEGIN:VCALENDAR
VERSION:2.0
PRODID:-//eventon.com NONSGML v1.0//EN
CALSCALE:GREGORIAN
METHOD:PUBLISH
BEGIN:VEVENT
UID:69e5fd489aa85
DTSTAMP:20260420T101744Z
DTSTART:20221122T200000Z
DTEND:20221123T045000Z
LOCATION:
SUMMARY:Explore the Ethiopian-Israeli Community through the holiday of SIGD!
DESCRIPTION:Register Now! Think there are no more Jewish holidays until Han
 ukkah? Think again! Join Israeli diplomat and Ethiopian Jew Kasa Bainesay-H
 arbor live from Israel to learn about this Ethiopian holiday that combines 
 aspects of Yom Kippur\,  Shavuot and Simchat Torah! M﻿any think that the 
 Hebrew month of Cheshvan is one[..]\nhttps://jccindy.org/events/explore-the
 -ethiopian-israeli-community-through-the-holiday-of-sigd/
URL:https://jccindy.org/events/explore-the-ethiopian-israeli-community-through-the-holiday-of-sigd/
END:VEVENT
END:VCALENDAR