

BEGIN:VCALENDAR
VERSION:2.0
PRODID:-//eventon.com NONSGML v1.0//EN
CALSCALE:GREGORIAN
METHOD:PUBLISH
BEGIN:VEVENT
UID:69e5e5d1af95d
DTSTAMP:20260420T083737Z
DTSTART:20221208T230000Z
DTEND:20221209T045000Z
LOCATION:Arthur M Glick JCC\,  Laikin Auditorium
SUMMARY:Kindergarten Readiness
DESCRIPTION:JCC Early Childhood Education (ECE) school psychologist Dr. Jen
 nifer Pleasure will lead a roundtable discussion with a panel including ECE
  Pre-K teacher Ms. Jenny and ECE parent Dan Drewry. Questions are welcome! 
 Dr. Jennifer Pleasure is a licensed psychologist who graduated from Yeshiva
  University in 1999. She specializes in helping[..]\nhttps://jccindy.org/ev
 ents/kindergarten-readiness/
URL:https://jccindy.org/events/kindergarten-readiness/
END:VEVENT
END:VCALENDAR