

BEGIN:VCALENDAR
VERSION:2.0
PRODID:-//eventon.com NONSGML v1.0//EN
CALSCALE:GREGORIAN
METHOD:PUBLISH
BEGIN:VEVENT
UID:69e73bec3c71d
DTSTAMP:20260421T085716Z
DTSTART:20221107T233000Z
DTEND:20221108T013000Z
LOCATION:Indiana Interchurch Center 1100 W. 42nd St.
SUMMARY:Ann Katz Festival: Holy Sparks
DESCRIPTION:Register Now See more\,  pay less with the Festival Pass!&nbsp;
 If you’re planning to see multiple events\,  you can save by purchasing a
  Festival Pass for&nbsp;$40. (Please note that the Festival Pass includes a
 ll events but does not include books.) The 24th annual Ann Katz Festival of
  Books &amp; Arts presented[..]\nhttps://jccindy.org/events/ann-katz-festiv
 al-holy-sparks/
URL:https://jccindy.org/events/ann-katz-festival-holy-sparks/
END:VEVENT
END:VCALENDAR