

BEGIN:VCALENDAR
VERSION:2.0
PRODID:-//eventon.com NONSGML v1.0//EN
CALSCALE:GREGORIAN
METHOD:PUBLISH
BEGIN:VEVENT
UID:69e55eede9c4d
DTSTAMP:20260419T230205Z
DTSTART:20221030T000000Z
DTEND:20221030T035000Z
LOCATION:Arthur M Glick JCC\,  Laikin Auditorium
SUMMARY:Ann Katz Festival: Heartland Shorts
DESCRIPTION:Register Now See more\,  pay less with the Festival Pass!&nbsp;
 If you’re planning to see multiple events\,  you can save by purchasing a
  Festival Pass for&nbsp;$40. (Please note that the Festival Pass includes a
 ll events but does not include books.) The 24th annual Ann Katz Festival of
  Books &amp; Arts presented[..]\nhttps://jccindy.org/events/ann-katz-festiv
 al-heartland-shorts/
URL:https://jccindy.org/events/ann-katz-festival-heartland-shorts/
END:VEVENT
END:VCALENDAR